BEGIN:VCALENDAR
VERSION:2.0
PRODID:-//Ruhrpott-Poker - ECPv4.6.12//NONSGML v1.0//EN
CALSCALE:GREGORIAN
METHOD:PUBLISH
X-WR-CALNAME:Ruhrpott-Poker
X-ORIGINAL-URL:https://www.ruhrpott-poker.de
X-WR-CALDESC:Veranstaltungen für Ruhrpott-Poker
BEGIN:VEVENT
DTSTART;TZID=UTC+0:20260515T183000
DTEND;TZID=UTC+0:20260516T020000
DTSTAMP:20260422T141225
CREATED:20260422T094423Z
LAST-MODIFIED:20260422T094423Z
UID:8762-1778869800-1778896800@www.ruhrpott-poker.de
SUMMARY:HAGEN wir kommen - 15. Mai - 150.000 Chips
DESCRIPTION:\nPop NEUE LOCATION IN HAGEN – Zur Hoheleye!  \n \nEs wäre schön\, wenn sich jeder Spieler im Vorfeld telefonisch bzw. am besten per WhatsApp für das Turnier anmeldet. \nDie Anmeldung soll über diese Nummer erfolgen: „0176/7410 9980“ \n\nReguläre Turnier Preise\nDie besten 10% der Spieler gewinnen natürlich wie immer Sachpreise. Bei jedem Turnier haben stehen immer eine große Auswahl an gesponserten Sachpreisen zur Auswahl! \nLocation:\nZur Hoheleye\, Hoheleye 23\, 58093 Hagen \n\nInfos:\nUnsere Turniere sind für „Jedermann“ und es spielen hier keine Profis\, doch aber einige gute Spieler. Natürlich hält es sich die Waage zwischen guten Spielern\, erfahrenen Spieler und Anfängern! Unser geschultes Personal hilft allen „Neulingen“ jederzeit weiter! \nWenn du Fragen hast\, dann kannst du uns jederzeit per Email unter info@ruhrpott-poker.de fragen. \nWeitere Info´s zum Spielsystem:\nGespielt wird im Freezeoutmodus \nWir freuen uns auf deinen Besuch \n\n
URL:https://www.ruhrpott-poker.de/event/hagen-wir-kommen-15-mai-150-000-chips/
LOCATION:Hoheleye 23\, Hagen\, 58093
GEO:51.385153;7.4925503
X-APPLE-STRUCTURED-LOCATION;VALUE=URI;X-ADDRESS=Hoheleye 23 Hagen 58093;X-APPLE-RADIUS=500;X-TITLE=Hoheleye 23:geo:7.4925503,51.385153
CATEGORIES:Multitable
ATTACH;FMTTYPE=image/jpeg:https://www.ruhrpott-poker.de/wp-content/uploads/2026/04/hagen2.jpg
END:VEVENT
END:VCALENDAR